BEGIN:VCALENDAR
VERSION:2.0
PRODID:-//ChurchDev//Events//EN
CALSCALE:GREGORIAN
METHOD:PUBLISH
BEGIN:VEVENT
UID:2959-20240607@www.nj-ministries.org
SUMMARY:First Friday Evening Prayer
DTSTART:20240607T230000Z
DTEND:20240608T000000Z
DESCRIPTION:https://www.nj-ministries.org/events/first-friday-evening-prayer/
URL:https://www.nj-ministries.org/events/first-friday-evening-prayer/
DTSTAMP:20260421T095922Z
END:VEVENT
END:VCALENDAR
