BEGIN:VCALENDAR
VERSION:2.0
PRODID:-//ChurchDev//Events//EN
CALSCALE:GREGORIAN
METHOD:PUBLISH
BEGIN:VEVENT
UID:2963-20240526@www.nj-ministries.org
SUMMARY:Sunday Morning Worship
DTSTART:20240526T140000Z
DTEND:20240526T150000Z
DESCRIPTION:Greetings from Jubilee Life Center!\\n\\nJoin us for a Great Worship Experience at 10:00 AM! \\n\\nWe welcome you in our physical location or on Zoom! \\n\\nPlease Contact Us for the Zoom meeting code.\\n\\nhttps://www.nj-ministries.org/events/sunday-morning-worship/
URL:https://www.nj-ministries.org/events/sunday-morning-worship/
DTSTAMP:20260421T095849Z
END:VEVENT
END:VCALENDAR
