BEGIN:VCALENDAR
VERSION:2.0
PRODID:-//ChurchDev//Events//EN
CALSCALE:GREGORIAN
METHOD:PUBLISH
BEGIN:VEVENT
UID:2965-20240521@www.nj-ministries.org
SUMMARY:The Selah Channel
DTSTART:20240521T233000Z
DTEND:20240522T003000Z
DESCRIPTION:Hear a word of inspiration from Elder Robinson on The Welcome to the Selah Channel.\\n\\nhttps://www.nj-ministries.org/events/the-selah-channel/
LOCATION:2015 Cause Way Lane\, Fort Mill\, SC 29715
URL:https://www.nj-ministries.org/events/the-selah-channel/
DTSTAMP:20260421T095850Z
END:VEVENT
END:VCALENDAR
