BEGIN:VCALENDAR
VERSION:2.0
PRODID:-//ChurchDev//Events//EN
CALSCALE:GREGORIAN
METHOD:PUBLISH
BEGIN:VEVENT
UID:2966-20240522@www.nj-ministries.org
SUMMARY:Youth National Jubilee Prayer Line
DTSTART:20240522T233000Z
DTEND:20240523T000000Z
DESCRIPTION:Greetings from Jubilee Life Center!\\nCalling all youth! Join us on Zoom for Bible Study and Prayer.\\nPlease Contact Us for the Zoom meeting code.\\n\\nhttps://www.nj-ministries.org/events/youth-national-jubilee-prayer-line/
LOCATION:2015 Cause Way Lane\, Fort Mill\, SC 29715
URL:https://www.nj-ministries.org/events/youth-national-jubilee-prayer-line/
DTSTAMP:20260421T095943Z
END:VEVENT
END:VCALENDAR
