BEGIN:VCALENDAR
VERSION:2.0
PRODID:-//ChurchDev//Events//EN
CALSCALE:GREGORIAN
METHOD:PUBLISH
BEGIN:VEVENT
UID:2967-20240522@www.nj-ministries.org
SUMMARY:Adult National Jubilee Prayer Line
DTSTART:20240523T000000Z
DTEND:20240523T010000Z
DESCRIPTION:Greetings from Jubilee Life Center!\\nJoin us on Zoom for Young Adult and Adult Bible Study and Prayer.\\nPlease Contact Us for the Zoom meeting code.\\n\\nhttps://www.nj-ministries.org/events/adult-national-jubilee-prayer-line/
LOCATION:2015 Cause Way Lane\, Fort Mill\, SC 29715
URL:https://www.nj-ministries.org/events/adult-national-jubilee-prayer-line/
DTSTAMP:20260421T095905Z
END:VEVENT
END:VCALENDAR
